Package: QTLExperiment Version: 1.5.0 Command: /home/biocbuild/bbs-3.21-bioc/R/bin/R CMD build --keep-empty-dirs --no-resave-data QTLExperiment StartedAt: 2025-02-12 18:42:41 -0500 (Wed, 12 Feb 2025) EndedAt: 2025-02-12 18:43:22 -0500 (Wed, 12 Feb 2025) EllapsedTime: 41.0 seconds RetCode: 0 Status: OK PackageFile: QTLExperiment_1.5.0.tar.gz PackageFileSize: 612.3 KiB