Package: QTLExperiment Version: 1.5.0 Command: /home/biocbuild/bbs-3.21-bioc/R/bin/R CMD INSTALL QTLExperiment StartedAt: 2025-02-09 15:23:42 -0500 (Sun, 09 Feb 2025) EndedAt: 2025-02-09 15:24:10 -0500 (Sun, 09 Feb 2025) EllapsedTime: 27.1 seconds RetCode: 0 Status: OK