Package: QTLExperiment Version: 1.5.0 Command: rm -rf QTLExperiment.buildbin-libdir && mkdir QTLExperiment.buildbin-libdir && E:\biocbuild\bbs-3.21-bioc\R\bin\R.exe CMD INSTALL --build --library=QTLExperiment.buildbin-libdir QTLExperiment_1.5.0.tar.gz StartedAt: 2025-02-13 08:37:49 -0500 (Thu, 13 Feb 2025) EndedAt: 2025-02-13 08:39:48 -0500 (Thu, 13 Feb 2025) EllapsedTime: 119.3 seconds RetCode: 0 Status: OK PackageFile: QTLExperiment_1.5.0.zip PackageFileSize: 1.144 MiB