Package: QTLExperiment Version: 1.5.0 Command: chmod a+r QTLExperiment -R && E:\biocbuild\bbs-3.21-bioc\R\bin\R.exe CMD build --keep-empty-dirs --no-resave-data QTLExperiment StartedAt: 2025-02-09 20:56:48 -0500 (Sun, 09 Feb 2025) EndedAt: 2025-02-09 20:57:49 -0500 (Sun, 09 Feb 2025) EllapsedTime: 60.8 seconds RetCode: 0 Status: OK PackageFile: QTLExperiment_1.5.0.tar.gz PackageFileSize: 612.4 KiB