Package: Qtlizer Version: 1.21.0 Command: /Library/Frameworks/R.framework/Resources/bin/R CMD build --keep-empty-dirs --no-resave-data Qtlizer StartedAt: 2025-02-09 17:19:15 -0500 (Sun, 09 Feb 2025) EndedAt: 2025-02-09 17:19:21 -0500 (Sun, 09 Feb 2025) EllapsedTime: 6.1 seconds RetCode: 0 Status: OK PackageFile: Qtlizer_1.21.0.tar.gz PackageFileSize: 223.1 KiB