Package: Qtlizer Version: 1.21.0 Command: /Library/Frameworks/R.framework/Resources/bin/R CMD INSTALL Qtlizer StartedAt: 2025-02-09 15:29:24 -0500 (Sun, 09 Feb 2025) EndedAt: 2025-02-09 15:29:25 -0500 (Sun, 09 Feb 2025) EllapsedTime: 1.0 seconds RetCode: 0 Status: OK