Package: Qtlizer Version: 1.21.0 Command: /home/biocbuild/R/R/bin/R CMD build --keep-empty-dirs --no-resave-data Qtlizer StartedAt: 2025-01-29 01:27:03 -0000 (Wed, 29 Jan 2025) EndedAt: 2025-01-29 01:27:15 -0000 (Wed, 29 Jan 2025) EllapsedTime: 12.0 seconds RetCode: 0 Status: OK PackageFile: Qtlizer_1.21.0.tar.gz PackageFileSize: 247.7 KiB