Package: Qtlizer Version: 1.21.0 Command: /home/biocbuild/R/R/bin/R CMD INSTALL Qtlizer StartedAt: 2025-01-29 20:36:32 -0000 (Wed, 29 Jan 2025) EndedAt: 2025-01-29 20:36:34 -0000 (Wed, 29 Jan 2025) EllapsedTime: 2.0 seconds RetCode: 0 Status: OK