Package: Qtlizer Version: 1.21.0 Command: /home/biocbuild/bbs-3.21-bioc/R/bin/R CMD check --install=check:Qtlizer.install-out.txt --library=/home/biocbuild/bbs-3.21-bioc/R/site-library --timings Qtlizer_1.21.0.tar.gz StartedAt: 2025-02-10 01:36:24 -0500 (Mon, 10 Feb 2025) EndedAt: 2025-02-10 01:36:52 -0500 (Mon, 10 Feb 2025) EllapsedTime: 28.0 seconds RetCode: 0 Status: OK CheckDir: Qtlizer.Rcheck Warnings: 0