Package: Qtlizer Version: 1.21.0 Command: chmod a+r Qtlizer -R && E:\biocbuild\bbs-3.21-bioc\R\bin\R.exe CMD build --keep-empty-dirs --no-resave-data Qtlizer StartedAt: 2025-02-04 20:59:32 -0500 (Tue, 04 Feb 2025) EndedAt: 2025-02-04 20:59:46 -0500 (Tue, 04 Feb 2025) EllapsedTime: 14.0 seconds RetCode: 0 Status: OK PackageFile: Qtlizer_1.21.0.tar.gz PackageFileSize: 223.2 KiB