Package: Qtlizer Version: 1.21.0 Command: E:\biocbuild\bbs-3.21-bioc\R\bin\R.exe CMD check --no-multiarch --install=check:Qtlizer.install-out.txt --library=E:\biocbuild\bbs-3.21-bioc\R\library --no-vignettes --timings Qtlizer_1.21.0.tar.gz StartedAt: 2025-02-05 04:48:57 -0500 (Wed, 05 Feb 2025) EndedAt: 2025-02-05 04:49:30 -0500 (Wed, 05 Feb 2025) EllapsedTime: 32.3 seconds RetCode: 0 Status: OK CheckDir: Qtlizer.Rcheck Warnings: 0