Package: Qtlizer Version: 1.21.0 Command: E:\biocbuild\bbs-3.21-bioc\R\bin\R.exe CMD INSTALL Qtlizer StartedAt: 2025-02-04 16:57:01 -0500 (Tue, 04 Feb 2025) EndedAt: 2025-02-04 16:57:07 -0500 (Tue, 04 Feb 2025) EllapsedTime: 6.4 seconds RetCode: 0 Status: OK