Package: QuasR Version: 1.47.2 Command: /Library/Frameworks/R.framework/Resources/bin/R CMD build --keep-empty-dirs --no-resave-data QuasR StartedAt: 2025-02-04 17:19:35 -0500 (Tue, 04 Feb 2025) EndedAt: 2025-02-04 17:21:27 -0500 (Tue, 04 Feb 2025) EllapsedTime: 111.2 seconds RetCode: 0 Status: OK PackageFile: QuasR_1.47.2.tar.gz PackageFileSize: 2.406 MiB