Package: QuasR Version: 1.47.2 Command: rm -rf QuasR.buildbin-libdir && mkdir QuasR.buildbin-libdir && /Users/biocbuild/BBS/utils/build-universal.sh QuasR_1.47.2.tar.gz /Library/Frameworks/R.framework/Resources/bin/R QuasR.buildbin-libdir StartedAt: 2025-02-05 00:56:02 -0500 (Wed, 05 Feb 2025) EndedAt: 2025-02-05 00:57:39 -0500 (Wed, 05 Feb 2025) EllapsedTime: 96.3 seconds RetCode: 0 Status: OK PackageFile: QuasR_1.47.2.tgz PackageFileSize: 3.452 MiB