Package: QuasR Version: 1.47.2 Command: /Library/Frameworks/R.framework/Resources/bin/R CMD build --keep-empty-dirs --no-resave-data QuasR StartedAt: 2025-02-09 18:03:35 -0500 (Sun, 09 Feb 2025) EndedAt: 2025-02-09 18:08:35 -0500 (Sun, 09 Feb 2025) EllapsedTime: 299.7 seconds RetCode: 0 Status: OK PackageFile: QuasR_1.47.2.tar.gz PackageFileSize: 2.405 MiB