Package: QuasR Version: 1.47.2 Command: /Library/Frameworks/R.framework/Resources/bin/R CMD INSTALL QuasR StartedAt: 2025-02-09 15:24:56 -0500 (Sun, 09 Feb 2025) EndedAt: 2025-02-09 15:26:28 -0500 (Sun, 09 Feb 2025) EllapsedTime: 92.4 seconds RetCode: 0 Status: OK