Package: QuasR Version: 1.47.2 Command: /home/biocbuild/bbs-3.21-bioc/R/bin/R CMD check --install=check:QuasR.install-out.txt --library=/home/biocbuild/bbs-3.21-bioc/R/site-library --timings QuasR_1.47.2.tar.gz StartedAt: 2025-02-10 01:37:56 -0500 (Mon, 10 Feb 2025) EndedAt: 2025-02-10 01:51:10 -0500 (Mon, 10 Feb 2025) EllapsedTime: 794.5 seconds RetCode: 0 Status: WARNINGS CheckDir: QuasR.Rcheck Warnings: 1