Package: QuasR Version: 1.47.2 Command: /home/biocbuild/bbs-3.21-bioc/R/bin/R CMD INSTALL QuasR StartedAt: 2025-02-04 15:54:54 -0500 (Tue, 04 Feb 2025) EndedAt: 2025-02-04 15:56:00 -0500 (Tue, 04 Feb 2025) EllapsedTime: 66.1 seconds RetCode: 0 Status: OK