Package: QuasR Version: 1.47.2 Command: chmod a+r QuasR -R && E:\biocbuild\bbs-3.21-bioc\R\bin\R.exe CMD build --keep-empty-dirs --no-resave-data QuasR StartedAt: 2025-02-09 20:57:25 -0500 (Sun, 09 Feb 2025) EndedAt: 2025-02-09 21:03:06 -0500 (Sun, 09 Feb 2025) EllapsedTime: 341.2 seconds RetCode: 0 Status: OK PackageFile: QuasR_1.47.2.tar.gz PackageFileSize: 1.75 MiB