Package: QuasR Version: 1.47.2 Command: E:\biocbuild\bbs-3.21-bioc\R\bin\R.exe CMD INSTALL QuasR StartedAt: 2025-02-09 16:52:01 -0500 (Sun, 09 Feb 2025) EndedAt: 2025-02-09 16:53:53 -0500 (Sun, 09 Feb 2025) EllapsedTime: 112.1 seconds RetCode: 0 Status: OK