Package: RAIDS Version: 1.5.0 Command: /home/biocbuild/R/R/bin/R CMD build --keep-empty-dirs --no-resave-data RAIDS StartedAt: 2025-01-29 01:29:07 -0000 (Wed, 29 Jan 2025) EndedAt: 2025-01-29 01:32:16 -0000 (Wed, 29 Jan 2025) EllapsedTime: 189.1 seconds RetCode: 0 Status: OK PackageFile: RAIDS_1.5.0.tar.gz PackageFileSize: 3.331 MiB