Package: RAIDS Version: 1.5.0 Command: /home/biocbuild/R/R/bin/R CMD INSTALL RAIDS StartedAt: 2025-01-29 20:25:16 -0000 (Wed, 29 Jan 2025) EndedAt: 2025-01-29 20:26:28 -0000 (Wed, 29 Jan 2025) EllapsedTime: 72.4 seconds RetCode: 0 Status: OK