Package: RAIDS Version: 1.5.0 Command: /Library/Frameworks/R.framework/Resources/bin/R CMD build --keep-empty-dirs --no-resave-data RAIDS StartedAt: 2025-02-12 17:57:28 -0500 (Wed, 12 Feb 2025) EndedAt: 2025-02-12 17:59:42 -0500 (Wed, 12 Feb 2025) EllapsedTime: 134.7 seconds RetCode: 0 Status: OK PackageFile: RAIDS_1.5.0.tar.gz PackageFileSize: 3.4 MiB