Package: RAIDS Version: 1.5.0 Command: /Library/Frameworks/R.framework/Resources/bin/R CMD INSTALL RAIDS StartedAt: 2025-02-09 15:37:45 -0500 (Sun, 09 Feb 2025) EndedAt: 2025-02-09 15:38:58 -0500 (Sun, 09 Feb 2025) EllapsedTime: 72.7 seconds RetCode: 0 Status: OK