Package: RAIDS Version: 1.5.0 Command: /home/biocbuild/bbs-3.21-bioc/R/bin/R CMD INSTALL RAIDS StartedAt: 2025-02-04 15:38:15 -0500 (Tue, 04 Feb 2025) EndedAt: 2025-02-04 15:39:09 -0500 (Tue, 04 Feb 2025) EllapsedTime: 53.9 seconds RetCode: 0 Status: OK