Package: RAIDS Version: 1.5.0 Command: rm -rf RAIDS.buildbin-libdir && mkdir RAIDS.buildbin-libdir && E:\biocbuild\bbs-3.21-bioc\R\bin\R.exe CMD INSTALL --build --library=RAIDS.buildbin-libdir RAIDS_1.5.0.tar.gz StartedAt: 2025-02-05 08:39:44 -0500 (Wed, 05 Feb 2025) EndedAt: 2025-02-05 08:41:20 -0500 (Wed, 05 Feb 2025) EllapsedTime: 96.8 seconds RetCode: 0 Status: OK PackageFile: RAIDS_1.5.0.zip PackageFileSize: 2.56 MiB