Package: RAIDS Version: 1.5.0 Command: E:\biocbuild\bbs-3.21-bioc\R\bin\R.exe CMD check --no-multiarch --install=check:RAIDS.install-out.txt --library=E:\biocbuild\bbs-3.21-bioc\R\library --no-vignettes --timings RAIDS_1.5.0.tar.gz StartedAt: 2025-02-10 04:27:40 -0500 (Mon, 10 Feb 2025) EndedAt: 2025-02-10 04:35:50 -0500 (Mon, 10 Feb 2025) EllapsedTime: 490.2 seconds RetCode: 0 Status: OK CheckDir: RAIDS.Rcheck Warnings: 0