Package: RAREsim Version: 1.11.0 Command: /Library/Frameworks/R.framework/Resources/bin/R CMD check --install=check:RAREsim.install-out.txt --library=/Library/Frameworks/R.framework/Resources/library --no-vignettes --timings RAREsim_1.11.0.tar.gz StartedAt: 2025-02-09 20:51:13 -0500 (Sun, 09 Feb 2025) EndedAt: 2025-02-09 20:51:24 -0500 (Sun, 09 Feb 2025) EllapsedTime: 11.1 seconds RetCode: 0 Status: OK CheckDir: RAREsim.Rcheck Warnings: 0