Package: RAREsim Version: 1.11.0 Command: /home/biocbuild/R/R/bin/R CMD build --keep-empty-dirs --no-resave-data RAREsim StartedAt: 2025-01-29 01:30:34 -0000 (Wed, 29 Jan 2025) EndedAt: 2025-01-29 01:30:43 -0000 (Wed, 29 Jan 2025) EllapsedTime: 9.0 seconds RetCode: 0 Status: OK PackageFile: RAREsim_1.11.0.tar.gz PackageFileSize: 292.3 KiB