Package: RAREsim Version: 1.11.0 Command: rm -rf RAREsim.buildbin-libdir && mkdir RAREsim.buildbin-libdir && /Users/biocbuild/BBS/utils/build-universal.sh RAREsim_1.11.0.tar.gz /Library/Frameworks/R.framework/Resources/bin/R RAREsim.buildbin-libdir StartedAt: 2025-02-10 01:10:26 -0500 (Mon, 10 Feb 2025) EndedAt: 2025-02-10 01:10:32 -0500 (Mon, 10 Feb 2025) EllapsedTime: 5.8 seconds RetCode: 0 Status: OK PackageFile: RAREsim_1.11.0.tgz PackageFileSize: 318 KiB