Package: RAREsim Version: 1.11.0 Command: /home/biocbuild/bbs-3.21-bioc/R/bin/R CMD build --keep-empty-dirs --no-resave-data RAREsim StartedAt: 2025-02-09 18:49:03 -0500 (Sun, 09 Feb 2025) EndedAt: 2025-02-09 18:49:09 -0500 (Sun, 09 Feb 2025) EllapsedTime: 6.0 seconds RetCode: 0 Status: OK PackageFile: RAREsim_1.11.0.tar.gz PackageFileSize: 323.7 KiB