Package: RAREsim Version: 1.11.0 Command: /home/biocbuild/bbs-3.21-bioc/R/bin/R CMD check --install=check:RAREsim.install-out.txt --library=/home/biocbuild/bbs-3.21-bioc/R/site-library --timings RAREsim_1.11.0.tar.gz StartedAt: 2025-02-10 01:41:07 -0500 (Mon, 10 Feb 2025) EndedAt: 2025-02-10 01:41:26 -0500 (Mon, 10 Feb 2025) EllapsedTime: 19.0 seconds RetCode: 0 Status: OK CheckDir: RAREsim.Rcheck Warnings: 0