############################################################################## ############################################################################## ### ### Running command: ### ### rm -rf RAREsim.buildbin-libdir && mkdir RAREsim.buildbin-libdir && E:\biocbuild\bbs-3.21-bioc\R\bin\R.exe CMD INSTALL --build --library=RAREsim.buildbin-libdir RAREsim_1.11.0.tar.gz ### ############################################################################## ############################################################################## * installing *source* package 'RAREsim' ... ** this is package 'RAREsim' version '1.11.0' ** using staged installation ** R ** data ** inst ** byte-compile and prepare package for lazy loading ** help *** installing help indices ** building package indices ** installing vignettes ** testing if installed package can be loaded from temporary location ** testing if installed package can be loaded from final location ** testing if installed package keeps a record of temporary installation path * MD5 sums packaged installation of 'RAREsim' as RAREsim_1.11.0.zip * DONE (RAREsim)