Package: RAREsim Version: 1.11.0 Command: rm -rf RAREsim.buildbin-libdir && mkdir RAREsim.buildbin-libdir && E:\biocbuild\bbs-3.21-bioc\R\bin\R.exe CMD INSTALL --build --library=RAREsim.buildbin-libdir RAREsim_1.11.0.tar.gz StartedAt: 2025-02-10 08:28:50 -0500 (Mon, 10 Feb 2025) EndedAt: 2025-02-10 08:28:57 -0500 (Mon, 10 Feb 2025) EllapsedTime: 7.4 seconds RetCode: 0 Status: OK PackageFile: RAREsim_1.11.0.zip PackageFileSize: 281.2 KiB