Package: RAREsim Version: 1.11.0 Command: chmod a+r RAREsim -R && E:\biocbuild\bbs-3.21-bioc\R\bin\R.exe CMD build --keep-empty-dirs --no-resave-data RAREsim StartedAt: 2025-02-03 21:13:35 -0500 (Mon, 03 Feb 2025) EndedAt: 2025-02-03 21:13:47 -0500 (Mon, 03 Feb 2025) EllapsedTime: 11.9 seconds RetCode: 0 Status: OK PackageFile: RAREsim_1.11.0.tar.gz PackageFileSize: 257.3 KiB