Package: RAREsim Version: 1.11.0 Command: E:\biocbuild\bbs-3.21-bioc\R\bin\R.exe CMD check --no-multiarch --install=check:RAREsim.install-out.txt --library=E:\biocbuild\bbs-3.21-bioc\R\library --no-vignettes --timings RAREsim_1.11.0.tar.gz StartedAt: 2025-02-04 04:55:29 -0500 (Tue, 04 Feb 2025) EndedAt: 2025-02-04 04:55:57 -0500 (Tue, 04 Feb 2025) EllapsedTime: 28.5 seconds RetCode: 0 Status: OK CheckDir: RAREsim.Rcheck Warnings: 0