Package: RBGL Version: 1.83.0 Command: rm -rf RBGL.buildbin-libdir && mkdir RBGL.buildbin-libdir && /Users/biocbuild/BBS/utils/build-universal.sh RBGL_1.83.0.tar.gz /Library/Frameworks/R.framework/Resources/bin/R RBGL.buildbin-libdir StartedAt: 2025-02-09 22:26:36 -0500 (Sun, 09 Feb 2025) EndedAt: 2025-02-09 22:27:07 -0500 (Sun, 09 Feb 2025) EllapsedTime: 30.7 seconds RetCode: 0 Status: OK PackageFile: RBGL_1.83.0.tgz PackageFileSize: 3.381 MiB