Package: RBGL Version: 1.83.0 Command: /Library/Frameworks/R.framework/Resources/bin/R CMD check --install=check:RBGL.install-out.txt --library=/Library/Frameworks/R.framework/Resources/library --no-vignettes --timings RBGL_1.83.0.tar.gz StartedAt: 2025-02-09 20:51:57 -0500 (Sun, 09 Feb 2025) EndedAt: 2025-02-09 20:52:15 -0500 (Sun, 09 Feb 2025) EllapsedTime: 17.2 seconds RetCode: 0 Status: OK CheckDir: RBGL.Rcheck Warnings: 0