Package: RBGL Version: 1.83.0 Command: /Library/Frameworks/R.framework/Resources/bin/R CMD INSTALL RBGL StartedAt: 2025-02-09 15:02:09 -0500 (Sun, 09 Feb 2025) EndedAt: 2025-02-09 15:02:43 -0500 (Sun, 09 Feb 2025) EllapsedTime: 34.3 seconds RetCode: 0 Status: OK