Package: RBGL Version: 1.83.0 Command: /home/biocbuild/R/R/bin/R CMD build --keep-empty-dirs --no-resave-data RBGL StartedAt: 2025-01-29 01:31:05 -0000 (Wed, 29 Jan 2025) EndedAt: 2025-01-29 01:34:09 -0000 (Wed, 29 Jan 2025) EllapsedTime: 184.1 seconds RetCode: 0 Status: OK PackageFile: RBGL_1.83.0.tar.gz PackageFileSize: 2.875 MiB