Package: RBGL Version: 1.83.0 Command: /home/biocbuild/R/R/bin/R CMD INSTALL RBGL StartedAt: 2025-01-29 19:32:48 -0000 (Wed, 29 Jan 2025) EndedAt: 2025-01-29 19:35:44 -0000 (Wed, 29 Jan 2025) EllapsedTime: 175.5 seconds RetCode: 0 Status: OK