Package: RBGL Version: 1.83.0 Command: rm -rf RBGL.buildbin-libdir && mkdir RBGL.buildbin-libdir && /Users/biocbuild/BBS/utils/build-universal.sh RBGL_1.83.0.tar.gz /Library/Frameworks/R.framework/Resources/bin/R RBGL.buildbin-libdir StartedAt: 2025-02-10 01:10:32 -0500 (Mon, 10 Feb 2025) EndedAt: 2025-02-10 01:12:34 -0500 (Mon, 10 Feb 2025) EllapsedTime: 121.9 seconds RetCode: 0 Status: OK PackageFile: RBGL_1.83.0.tgz PackageFileSize: 3.425 MiB