Package: RBGL Version: 1.83.0 Command: /Library/Frameworks/R.framework/Resources/bin/R CMD build --keep-empty-dirs --no-resave-data RBGL StartedAt: 2025-02-09 18:05:08 -0500 (Sun, 09 Feb 2025) EndedAt: 2025-02-09 18:07:03 -0500 (Sun, 09 Feb 2025) EllapsedTime: 115.6 seconds RetCode: 0 Status: OK PackageFile: RBGL_1.83.0.tar.gz PackageFileSize: 2.949 MiB