Package: RBGL Version: 1.83.0 Command: /home/biocbuild/bbs-3.21-bioc/R/bin/R CMD check --install=check:RBGL.install-out.txt --library=/home/biocbuild/bbs-3.21-bioc/R/site-library --timings RBGL_1.83.0.tar.gz StartedAt: 2025-02-10 01:42:16 -0500 (Mon, 10 Feb 2025) EndedAt: 2025-02-10 01:43:25 -0500 (Mon, 10 Feb 2025) EllapsedTime: 69.0 seconds RetCode: 0 Status: WARNINGS CheckDir: RBGL.Rcheck Warnings: 1