Package: RBGL Version: 1.83.0 Command: /home/biocbuild/bbs-3.21-bioc/R/bin/R CMD INSTALL RBGL StartedAt: 2025-02-09 15:12:01 -0500 (Sun, 09 Feb 2025) EndedAt: 2025-02-09 15:13:48 -0500 (Sun, 09 Feb 2025) EllapsedTime: 107.2 seconds RetCode: 0 Status: OK