Package: RBGL Version: 1.83.0 Command: rm -rf RBGL.buildbin-libdir && mkdir RBGL.buildbin-libdir && E:\biocbuild\bbs-3.21-bioc\R\bin\R.exe CMD INSTALL --build --library=RBGL.buildbin-libdir RBGL_1.83.0.tar.gz StartedAt: 2025-02-13 08:39:31 -0500 (Thu, 13 Feb 2025) EndedAt: 2025-02-13 08:42:44 -0500 (Thu, 13 Feb 2025) EllapsedTime: 193.4 seconds RetCode: 0 Status: OK PackageFile: RBGL_1.83.0.zip PackageFileSize: 2.911 MiB