Package: RBGL Version: 1.83.0 Command: chmod a+r RBGL -R && E:\biocbuild\bbs-3.21-bioc\R\bin\R.exe CMD build --keep-empty-dirs --no-resave-data RBGL StartedAt: 2025-02-12 21:08:46 -0500 (Wed, 12 Feb 2025) EndedAt: 2025-02-12 21:12:01 -0500 (Wed, 12 Feb 2025) EllapsedTime: 195.0 seconds RetCode: 0 Status: OK PackageFile: RBGL_1.83.0.tar.gz PackageFileSize: 2.425 MiB