Package: RBGL Version: 1.83.0 Command: E:\biocbuild\bbs-3.21-bioc\R\bin\R.exe CMD check --no-multiarch --install=check:RBGL.install-out.txt --library=E:\biocbuild\bbs-3.21-bioc\R\library --no-vignettes --timings RBGL_1.83.0.tar.gz StartedAt: 2025-02-13 04:39:10 -0500 (Thu, 13 Feb 2025) EndedAt: 2025-02-13 04:40:39 -0500 (Thu, 13 Feb 2025) EllapsedTime: 89.5 seconds RetCode: 0 Status: WARNINGS CheckDir: RBGL.Rcheck Warnings: 1