Package: RBGL Version: 1.83.0 Command: E:\biocbuild\bbs-3.21-bioc\R\bin\R.exe CMD INSTALL RBGL StartedAt: 2025-02-09 15:22:47 -0500 (Sun, 09 Feb 2025) EndedAt: 2025-02-09 15:27:30 -0500 (Sun, 09 Feb 2025) EllapsedTime: 283.0 seconds RetCode: 0 Status: OK