Package: RBM Version: 1.39.0 Maintainer: Dongmei Li MaintainerEmail: Dongmei_Li at urmc.rochester.edu git_url: https://git.bioconductor.org/packages/RBM git_branch: devel git_last_commit: 7acbaea git_last_commit_date: 2024-10-29 09:59:51 -0500 (Tue, 29 Oct 2024)